BEGIN:VCALENDAR
VERSION:2.0
PRODID:-//Kaštieľ Modra - ECPv6.15.20//NONSGML v1.0//EN
CALSCALE:GREGORIAN
METHOD:PUBLISH
X-WR-CALNAME:Kaštieľ Modra
X-ORIGINAL-URL:https://www.kastielmodra.sk
X-WR-CALDESC:Udalosti pre Kaštieľ Modra
REFRESH-INTERVAL;VALUE=DURATION:PT1H
X-Robots-Tag:noindex
X-PUBLISHED-TTL:PT1H
BEGIN:VTIMEZONE
TZID:Europe/Bratislava
BEGIN:DAYLIGHT
TZOFFSETFROM:+0100
TZOFFSETTO:+0200
TZNAME:CEST
DTSTART:20240331T010000
END:DAYLIGHT
BEGIN:STANDARD
TZOFFSETFROM:+0200
TZOFFSETTO:+0100
TZNAME:CET
DTSTART:20241027T010000
END:STANDARD
BEGIN:DAYLIGHT
TZOFFSETFROM:+0100
TZOFFSETTO:+0200
TZNAME:CEST
DTSTART:20250330T010000
END:DAYLIGHT
BEGIN:STANDARD
TZOFFSETFROM:+0200
TZOFFSETTO:+0100
TZNAME:CET
DTSTART:20251026T010000
END:STANDARD
BEGIN:DAYLIGHT
TZOFFSETFROM:+0100
TZOFFSETTO:+0200
TZNAME:CEST
DTSTART:20260329T010000
END:DAYLIGHT
BEGIN:STANDARD
TZOFFSETFROM:+0200
TZOFFSETTO:+0100
TZNAME:CET
DTSTART:20261025T010000
END:STANDARD
END:VTIMEZONE
BEGIN:VEVENT
DTSTART;TZID=Europe/Bratislava:20251109T130000
DTEND;TZID=Europe/Bratislava:20251109T190000
DTSTAMP:20260425T235428
CREATED:20251022T192220Z
LAST-MODIFIED:20251022T192220Z
UID:7624-1762693200-1762714800@www.kastielmodra.sk
SUMMARY:Sochársky workshop s Andrejom Fričom
DESCRIPTION:Sochársky workshop s výtvarníkom Andrejom Fričom je zameraný na realistické modelovanie jednotlivých častí ľudskej tváre ako oko\, nos\, ústa\, ucho. Lektor vás prevedie základmi budovania hmoty\, používania textúry a práce s náradím. \nprihlasovanie: pevalova@moska.sk \nPodujatie podporilo z verejných zdrojov Fond na podporu umenia.
URL:https://www.kastielmodra.sk/podujatia/socharsky-workshop-s-andrejom-fricom/
LOCATION:Kaštieľ Modra\, Horná 20\, Modra\, 90001\, Slovakia (Slovak Republic)
CATEGORIES:workshop
ATTACH;FMTTYPE=image/jpeg:https://www.kastielmodra.sk/wp-content/uploads/2025/10/1000011096.jpg
END:VEVENT
END:VCALENDAR