BEGIN:VCALENDAR
VERSION:2.0
PRODID:-//Kaštieľ Modra - ECPv6.15.20//NONSGML v1.0//EN
CALSCALE:GREGORIAN
METHOD:PUBLISH
X-ORIGINAL-URL:https://www.kastielmodra.sk
X-WR-CALDESC:Udalosti pre Kaštieľ Modra
REFRESH-INTERVAL;VALUE=DURATION:PT1H
X-Robots-Tag:noindex
X-PUBLISHED-TTL:PT1H
BEGIN:VTIMEZONE
TZID:Europe/Bratislava
BEGIN:DAYLIGHT
TZOFFSETFROM:+0100
TZOFFSETTO:+0200
TZNAME:CEST
DTSTART:20240331T010000
END:DAYLIGHT
BEGIN:STANDARD
TZOFFSETFROM:+0200
TZOFFSETTO:+0100
TZNAME:CET
DTSTART:20241027T010000
END:STANDARD
BEGIN:DAYLIGHT
TZOFFSETFROM:+0100
TZOFFSETTO:+0200
TZNAME:CEST
DTSTART:20250330T010000
END:DAYLIGHT
BEGIN:STANDARD
TZOFFSETFROM:+0200
TZOFFSETTO:+0100
TZNAME:CET
DTSTART:20251026T010000
END:STANDARD
BEGIN:DAYLIGHT
TZOFFSETFROM:+0100
TZOFFSETTO:+0200
TZNAME:CEST
DTSTART:20260329T010000
END:DAYLIGHT
BEGIN:STANDARD
TZOFFSETFROM:+0200
TZOFFSETTO:+0100
TZNAME:CET
DTSTART:20261025T010000
END:STANDARD
END:VTIMEZONE
BEGIN:VEVENT
DTSTART;TZID=Europe/Bratislava:20250913T190000
DTEND;TZID=Europe/Bratislava:20250913T210000
DTSTAMP:20260425T235314
CREATED:20250816T201009Z
LAST-MODIFIED:20250908T082548Z
UID:7471-1757790000-1757797200@www.kastielmodra.sk
SUMMARY:Shalom Chaverim - Peter Győri a priatelia
DESCRIPTION:Srdečne vás pozývame na jedinečný hudobný zážitok v rámci festivalu židovskej kultúry Shalom Chaverim 2025!V magickej atmosfére historického Kaštieľa Modra sa predstaví hudobník Peter Győri so svojimi priateľmi. Pripravte sa na večer plný emócií\, strhujúcich melódií a neopakovateľných hudobných spojení. \nNa čo sa môžete tešiť? \nPeter Győri – Spevák známy svojím precíteným prejavom a interpretáciou židovských piesní\, klezmeru a world music. Jeho hudba je mostom medzi tradíciou a súčasnosťou. \nMiroslav Jankech – Virtuózny akordeonista\, ktorý svojou energiou a majstrovstvom dodá koncertu nezameniteľnú dynamiku. \nDennyiah – Indie popové duo\, založené speváčkou a skladateľkou Denisou „Denny“ Gajarskou a gitaristom a producentom Ľubošom Šoltesom. \nSpojenie týchto umelcov sľubuje večer\, kde sa tradícia stretáva s moderným prístupom a hudba hovorí univerzálnym jazykom\, ktorému rozumie každý. \nPredpredaj TU. \n  \n 
URL:https://www.kastielmodra.sk/podujatia/shalom-chaverim-peter-gyori-a-priatelia/
LOCATION:Kaštieľ Modra\, Horná 20\, Modra\, 90001\, Slovakia (Slovak Republic)
CATEGORIES:koncert
ATTACH;FMTTYPE=image/png:https://www.kastielmodra.sk/wp-content/uploads/2025/08/28_OK_Gyori_Modra.png
END:VEVENT
END:VCALENDAR