BEGIN:VCALENDAR
VERSION:2.0
PRODID:-//Kaštieľ Modra - ECPv6.15.20//NONSGML v1.0//EN
CALSCALE:GREGORIAN
METHOD:PUBLISH
X-WR-CALNAME:Kaštieľ Modra
X-ORIGINAL-URL:https://www.kastielmodra.sk
X-WR-CALDESC:Udalosti pre Kaštieľ Modra
REFRESH-INTERVAL;VALUE=DURATION:PT1H
X-Robots-Tag:noindex
X-PUBLISHED-TTL:PT1H
BEGIN:VTIMEZONE
TZID:Europe/Bratislava
BEGIN:DAYLIGHT
TZOFFSETFROM:+0100
TZOFFSETTO:+0200
TZNAME:CEST
DTSTART:20240331T010000
END:DAYLIGHT
BEGIN:STANDARD
TZOFFSETFROM:+0200
TZOFFSETTO:+0100
TZNAME:CET
DTSTART:20241027T010000
END:STANDARD
BEGIN:DAYLIGHT
TZOFFSETFROM:+0100
TZOFFSETTO:+0200
TZNAME:CEST
DTSTART:20250330T010000
END:DAYLIGHT
BEGIN:STANDARD
TZOFFSETFROM:+0200
TZOFFSETTO:+0100
TZNAME:CET
DTSTART:20251026T010000
END:STANDARD
BEGIN:DAYLIGHT
TZOFFSETFROM:+0100
TZOFFSETTO:+0200
TZNAME:CEST
DTSTART:20260329T010000
END:DAYLIGHT
BEGIN:STANDARD
TZOFFSETFROM:+0200
TZOFFSETTO:+0100
TZNAME:CET
DTSTART:20261025T010000
END:STANDARD
END:VTIMEZONE
BEGIN:VEVENT
DTSTART;TZID=Europe/Bratislava:20250928T130000
DTEND;TZID=Europe/Bratislava:20250928T180000
DTSTAMP:20260425T234947
CREATED:20250911T193736Z
LAST-MODIFIED:20250911T193736Z
UID:7503-1759064400-1759082400@www.kastielmodra.sk
SUMMARY:Workshop tradičnej grafickej techniky suchej ihly
DESCRIPTION:Srdečne pozývame na Workshop tradičnej grafickej techniky suchej ihly\, ktorý povedie Yeghiazar Movsisyan. \nWorkshop je zameraný na grafickú techniku suchej ihly\, ktorá patrí medzi lineárne rytiny ručnej tlače. Počas kurzu si účastníci osvoja základy tejto techniky\, ktorá spočíva vo vytváraní obrazov do povrchu kovovej alebo plastovej platne pomocou ihly. Výsledné grafiky majú špecifický\, jemný a expresívny vzhľad\, ktorý je typický pre suchú ihlu. \nWorkshop poskytne jedinečnú možnosť vytvoriť si vlastnú grafiku a odniesť si svoj výtlačok aj s matricou. Je určený všetkým záujemcom o tradičné techniky grafiky a jeho cena je 45€. \nNa podujatie je potrebná registrácia vopred (pevalova@moska.sk). \nEVENT na Facebooku.
URL:https://www.kastielmodra.sk/podujatia/workshop-tradicnej-grafickej-techniky-suchej-ihly/
CATEGORIES:workshop
ATTACH;FMTTYPE=image/jpeg:https://www.kastielmodra.sk/wp-content/uploads/2025/09/34-Angel-and-Space-32.5x41.5-dry-point-inkpaper-2010-scaled.jpg
END:VEVENT
END:VCALENDAR